BEGIN:VCALENDAR
VERSION:2.0
PRODID:-//The Club - ECPv6.15.16//NONSGML v1.0//EN
CALSCALE:GREGORIAN
METHOD:PUBLISH
X-WR-CALNAME:The Club
X-ORIGINAL-URL:https://theclub.org
X-WR-CALDESC:Events for The Club
REFRESH-INTERVAL;VALUE=DURATION:PT1H
X-Robots-Tag:noindex
X-PUBLISHED-TTL:PT1H
BEGIN:VTIMEZONE
TZID:America/New_York
BEGIN:DAYLIGHT
TZOFFSETFROM:-0500
TZOFFSETTO:-0400
TZNAME:EDT
DTSTART:20230312T070000
END:DAYLIGHT
BEGIN:STANDARD
TZOFFSETFROM:-0400
TZOFFSETTO:-0500
TZNAME:EST
DTSTART:20231105T060000
END:STANDARD
BEGIN:DAYLIGHT
TZOFFSETFROM:-0500
TZOFFSETTO:-0400
TZNAME:EDT
DTSTART:20240310T070000
END:DAYLIGHT
BEGIN:STANDARD
TZOFFSETFROM:-0400
TZOFFSETTO:-0500
TZNAME:EST
DTSTART:20241103T060000
END:STANDARD
BEGIN:DAYLIGHT
TZOFFSETFROM:-0500
TZOFFSETTO:-0400
TZNAME:EDT
DTSTART:20250309T070000
END:DAYLIGHT
BEGIN:STANDARD
TZOFFSETFROM:-0400
TZOFFSETTO:-0500
TZNAME:EST
DTSTART:20251102T060000
END:STANDARD
END:VTIMEZONE
BEGIN:VEVENT
DTSTART;TZID=America/New_York:20240401T080000
DTEND;TZID=America/New_York:20240530T200000
DTSTAMP:20260421T095741
CREATED:20240401T172809Z
LAST-MODIFIED:20240401T173235Z
UID:4129-1711958400-1717099200@theclub.org
SUMMARY:Running Conditioning Class 🏃
DESCRIPTION:  \n  \nLace up and hit the blue turf with Alex for our 8-week Running Conditioning class\, starting Wednesday at 7 pm! \nWhether you’re a beginner or a seasoned runner\, this program is tailored for all levels!
URL:https://theclub.org/event/running-conditioning-class-%f0%9f%8f%83/
LOCATION:The Club at Woodbridge\, 585 Main Street\, 07095\, United States
ORGANIZER;CN="The Club at Woodbridge":MAILTO:info@theclub.org
END:VEVENT
BEGIN:VEVENT
DTSTART;TZID=America/New_York:20240408T080000
DTEND;TZID=America/New_York:20240630T170000
DTSTAMP:20260421T095741
CREATED:20240408T191840Z
LAST-MODIFIED:20240511T231651Z
UID:4235-1712563200-1719766800@theclub.org
SUMMARY:On The Blog
DESCRIPTION:We’re starting this blog to share the journey toward a healthier\, happier life with you\, \ncovering everything from exercise and healthy eating to new classes\, \ninsights into preschoolers’ mindsets\, \nthe benefits of early learning\, swimming\, and much\, much more.
URL:https://theclub.org/event/on-the-blog/
LOCATION:The Club at Woodbridge\, 585 Main Street\, 07095\, United States
ATTACH;FMTTYPE=image/png:https://theclub.org/wp-content/uploads/2024/04/New-Blog-Post-2.png
ORGANIZER;CN="The Club at Woodbridge":MAILTO:info@theclub.org
END:VEVENT
BEGIN:VEVENT
DTSTART;TZID=America/New_York:20240510T080000
DTEND;TZID=America/New_York:20240510T170000
DTSTAMP:20260421T095741
CREATED:20240510T122901Z
LAST-MODIFIED:20240510T122901Z
UID:4816-1715328000-1715360400@theclub.org
SUMMARY:Memorial Day Weekend RPM Event!
DESCRIPTION:Join us for a special Memorial Day Weekend RPM event in the Spin Studio!  \nPush your limits with a high-energy ride on Sunday\, May 26th\, from 8:30 am to 10:00 am. \nLet’s start the weekend with a bang!   \nSee you there!
URL:https://theclub.org/event/memorial-day-weekend-rpm-event/
LOCATION:The Club at Woodbridge\, 585 Main Street\, 07095\, United States
ORGANIZER;CN="The Club at Woodbridge":MAILTO:info@theclub.org
END:VEVENT
BEGIN:VEVENT
DTSTART;TZID=America/New_York:20240510T080000
DTEND;TZID=America/New_York:20240510T170000
DTSTAMP:20260421T095741
CREATED:20240510T124403Z
LAST-MODIFIED:20240510T130113Z
UID:4821-1715328000-1715360400@theclub.org
SUMMARY:Enroll in Classes Beginning May 13\, 2024
DESCRIPTION:Explore Our Classes Online!\n\n*Please be aware that registrations from non-members before May 20th will be automatically removed from the class without prior notice. Should this occur\, you will need to re-register during the non-member registration period. Please ensure to register within the appropriate timeframe to avoid any inconvenience. Thank you for your understanding and cooperation. \n \nTo enroll in a class\, follow these steps: \n\n\n \n\nClick on link below.\nClick on the class you’re interested in.\n\n\n\nNavigate to the week of June 9th on the schedule.\n\n\n\nCheck if the class is full. If it is not full\, proceed with enrolling.\n\n\n\n \nIf you need further assistance\, feel free to reach out to our Front Desk! \n \n\nLink to Kidsports classes: https://theclub.org/kidsports/kidsports-programs/Link to Aquatic classes: https://theclub.org/aquatics/swim-lessons/
URL:https://theclub.org/event/enroll-in-classes-beginning-may-13-2024/
LOCATION:The Club at Woodbridge\, 585 Main Street\, 07095\, United States
ORGANIZER;CN="The Club at Woodbridge":MAILTO:info@theclub.org
END:VEVENT
BEGIN:VEVENT
DTSTART;VALUE=DATE:20240512
DTEND;VALUE=DATE:20240513
DTSTAMP:20260421T095741
CREATED:20240512T105319Z
LAST-MODIFIED:20240512T115838Z
UID:4872-1715472000-1715558399@theclub.org
SUMMARY:Cheers to Mom: Celebrating Mother's Day at The Club at Woodbridge!
DESCRIPTION:Mother’s Day is a special occasion to honor and celebrate the incredible mothers in our lives. \nIt’s a time to show appreciation for all the love\, care\, and sacrifices they make every day. \nAt The Club at Woodbridge\, we believe in recognizing and celebrating mothers not just on this day\, but every day. \nWhether it’s through a relaxing spa day\, a fitness class\, or a delicious meal at our restaurant\, we strive to make Mother’s Day memorable for all the amazing moms out there. \nJoin us in celebrating these remarkable women who enrich our lives with their unconditional love and support.
URL:https://theclub.org/event/cheers-to-mom-celebrating-mothers-day-at-the-club-at-woodbridge/
LOCATION:The Club at Woodbridge\, 585 Main Street\, 07095\, United States
END:VEVENT
BEGIN:VEVENT
DTSTART;TZID=America/New_York:20240512T080000
DTEND;TZID=America/New_York:20240512T170000
DTSTAMP:20260421T095741
CREATED:20240512T122831Z
LAST-MODIFIED:20240512T123246Z
UID:4899-1715500800-1715533200@theclub.org
SUMMARY:Veterans Special Offer: Exclusive Discounts Every Monday!
DESCRIPTION:Fore! Calling all veterans! Swing into savings every Monday with our exclusive 30% off discount at the golf den. \nJust bring your valid military ID and claim your \nOne Hour Session for $31.50 or Half-Hour Session for only $17.50.  \nNo other discounts apply! \nDon’t miss this special offer—book your tee time today! \nBook Now!
URL:https://theclub.org/event/veterans-special-offer-exclusive-discounts-every-monday/
LOCATION:The Club at Woodbridge\, 585 Main Street\, 07095\, United States
END:VEVENT
BEGIN:VEVENT
DTSTART;TZID=America/New_York:20240512T080000
DTEND;TZID=America/New_York:20240521T170000
DTSTAMP:20260421T095741
CREATED:20240512T215207Z
LAST-MODIFIED:20240512T220611Z
UID:4906-1715500800-1716310800@theclub.org
SUMMARY:Summer Registration Members Only starts May 13\, 2024
DESCRIPTION:Check out our classes on our website!\n\n \n\nLink to Kidsports classes: https://theclub.org/kidsports/kidsports-programs/\n \n\n\nLink to Aquatic classes: https://theclub.org/aquatics/swim-lessons/\n*Please be aware that registrations from non-members before May 20th will be automatically removed from the class without prior notice. Should this occur\, you will need to re-register during the non-member registration period. Please ensure to register within the appropriate timeframe to avoid any inconvenience. Thank you for your understanding and cooperation.\n  \nTo enroll in a class\, follow these steps: \nClick on the class you’re interested in. \nNavigate to the week of June 9th on the schedule. \nCheck if the class is full. If it is not full\, proceed with enrolling. \n \nIf you need further assistance\, feel free to reach out to our Front Desk!
URL:https://theclub.org/event/summer-registration-begins-tomorrow-may-13-2024/
LOCATION:The Club at Woodbridge\, 585 Main Street\, 07095\, United States
ORGANIZER;CN="The Club at Woodbridge":MAILTO:info@theclub.org
END:VEVENT
BEGIN:VEVENT
DTSTART;TZID=America/New_York:20240515T080000
DTEND;TZID=America/New_York:20240624T100000
DTSTAMP:20260421T095741
CREATED:20240515T134540Z
LAST-MODIFIED:20240624T134241Z
UID:4921-1715760000-1719223200@theclub.org
SUMMARY:Summer Camp is officially SOLD OUT!
DESCRIPTION:🌞 Exciting News! 🌞 \n  \nWe’re thrilled to announce that our Summer Camp is officially SOLD OUT!  \nThank you to everyone who registered and showed interest in our camp. \nWe can’t wait to provide an amazing summer experience for all the campers! \nFor those who missed out\, stay tuned for future updates and programs. \nWe appreciate your continued support and look forward to seeing everyone at our next event! \n 
URL:https://theclub.org/event/summer-camp-is-officially-sold-out/
LOCATION:The Club at Woodbridge\, 585 Main Street\, 07095\, United States
ORGANIZER;CN="The Club at Woodbridge":MAILTO:info@theclub.org
END:VEVENT
BEGIN:VEVENT
DTSTART;TZID=America/New_York:20240530T190000
DTEND;TZID=America/New_York:20240530T203000
DTSTAMP:20260421T095741
CREATED:20240523T191236Z
LAST-MODIFIED:20240523T192014Z
UID:5172-1717095600-1717101000@theclub.org
SUMMARY:LEGO CLASS - May 30\, 2024
DESCRIPTION:🧱✨ Join us for our exciting Lego Class on May 30\, 2024\, from 7-8:30 PM! ✨🧱 \nUnleash your creativity and have fun building amazing Lego creations. This class is perfect for ages 6 yrs-12 yrs! \n📅 Date: May 30\, 2024\n⏰ Time: 7:00 – 8:30 PM \nRegister online now: \nMembers Enroll Here \nNon-Members Enroll Here \nDon’t miss out on the fun—secure your spot today! 🚀🔧🎨
URL:https://theclub.org/event/lego-class-may-30-2024/
LOCATION:The Club at Woodbridge\, 585 Main Street\, 07095\, United States
ORGANIZER;CN="The Club at Woodbridge":MAILTO:info@theclub.org
END:VEVENT
BEGIN:VEVENT
DTSTART;TZID=America/New_York:20240531T080000
DTEND;TZID=America/New_York:20240531T170000
DTSTAMP:20260421T095741
CREATED:20240531T171054Z
LAST-MODIFIED:20240531T171221Z
UID:5338-1717142400-1717174800@theclub.org
SUMMARY:Golf Den - Veteran's Discount  - See Flyer
DESCRIPTION:  \n  \nAttention Veterans! \nEnjoy Special Discounts at the Golf Den on Mondays!⛳ \nSee the flyer for details and join us for a great deal. \nThank you for your service!
URL:https://theclub.org/event/golf-den-veterans-discount-see-flyer/
LOCATION:The Club at Woodbridge\, 585 Main Street\, 07095\, United States
ATTACH;FMTTYPE=image/png:https://theclub.org/wp-content/uploads/2024/05/Golf-Den-30-Flyer.png
ORGANIZER;CN="The Club at Woodbridge":MAILTO:info@theclub.org
END:VEVENT
BEGIN:VEVENT
DTSTART;TZID=America/New_York:20240531T080000
DTEND;TZID=America/New_York:20240615T170000
DTSTAMP:20260421T095741
CREATED:20240531T165629Z
LAST-MODIFIED:20240531T170148Z
UID:5332-1717142400-1718470800@theclub.org
SUMMARY:Free Health Screening - June 14\, 2024
DESCRIPTION:  \n  \n  \nDon’t Miss Out! Free Health Screening at The Club at Woodbridge on Friday\, 14th from 10 AM – 1 PM! \n🩺🩹 Join us for a check-up and stay on top of your health. \nSee you there!
URL:https://theclub.org/event/free-health-screening-june-14-2024/
LOCATION:The Club at Woodbridge\, 585 Main Street\, 07095\, United States
ORGANIZER;CN="The Club at Woodbridge":MAILTO:info@theclub.org
END:VEVENT
END:VCALENDAR