BEGIN:VCALENDAR
VERSION:2.0
PRODID:-//The Club - ECPv6.15.16//NONSGML v1.0//EN
CALSCALE:GREGORIAN
METHOD:PUBLISH
X-WR-CALNAME:The Club
X-ORIGINAL-URL:https://theclub.org
X-WR-CALDESC:Events for The Club
REFRESH-INTERVAL;VALUE=DURATION:PT1H
X-Robots-Tag:noindex
X-PUBLISHED-TTL:PT1H
BEGIN:VTIMEZONE
TZID:America/New_York
BEGIN:DAYLIGHT
TZOFFSETFROM:-0500
TZOFFSETTO:-0400
TZNAME:EDT
DTSTART:20250309T070000
END:DAYLIGHT
BEGIN:STANDARD
TZOFFSETFROM:-0400
TZOFFSETTO:-0500
TZNAME:EST
DTSTART:20251102T060000
END:STANDARD
BEGIN:DAYLIGHT
TZOFFSETFROM:-0500
TZOFFSETTO:-0400
TZNAME:EDT
DTSTART:20260308T070000
END:DAYLIGHT
BEGIN:STANDARD
TZOFFSETFROM:-0400
TZOFFSETTO:-0500
TZNAME:EST
DTSTART:20261101T060000
END:STANDARD
BEGIN:DAYLIGHT
TZOFFSETFROM:-0500
TZOFFSETTO:-0400
TZNAME:EDT
DTSTART:20270314T070000
END:DAYLIGHT
BEGIN:STANDARD
TZOFFSETFROM:-0400
TZOFFSETTO:-0500
TZNAME:EST
DTSTART:20271107T060000
END:STANDARD
END:VTIMEZONE
BEGIN:VEVENT
DTSTART;TZID=America/New_York:20260415T080000
DTEND;TZID=America/New_York:20260511T170000
DTSTAMP:20260419T100240
CREATED:20260415T181347Z
LAST-MODIFIED:20260415T181445Z
UID:9309-1776240000-1778518800@theclub.org
SUMMARY:🌹MOTHER'S DAY SALE - SPECIAL OFFER🌹
DESCRIPTION:🌹Special Offer🌹\nMother’s Day SALE\n  \n10 Group Exercise Classes $110.00 (value $130.00)\nGift Certificate Available at Our Front Desk!\n  \nRestrictions: \nOffer valid for a limited time only – Must be purchased by May 10\, 2026 \nGift Certificate must be redeemed within 6 months of purchase (by November 2026) \nCoupon must be presented at the time of purchase \nCannot be combined with any other offers or discounts \nNon-transferable and has no cash value \nLimit one use per person \n 
URL:https://theclub.org/event/%f0%9f%8c%b9mothers-day-sale-special-offer%f0%9f%8c%b9/
LOCATION:The Club at Woodbridge\, 585 Main Street\, 07095\, United States
ATTACH;FMTTYPE=image/jpeg:https://theclub.org/wp-content/uploads/2026/04/Mothers-Day-Program-Guide-Flyer-2026pw-1.jpg
ORGANIZER;CN="The Club at Woodbridge":MAILTO:info@theclub.org
END:VEVENT
BEGIN:VEVENT
DTSTART;TZID=America/New_York:20260415T080000
DTEND;TZID=America/New_York:20260715T170000
DTSTAMP:20260419T100240
CREATED:20260415T184546Z
LAST-MODIFIED:20260415T184717Z
UID:9317-1776240000-1784134800@theclub.org
SUMMARY:🍕WOODBRIDGE PIZZA RUN - JULY 15\, 2026🍕
DESCRIPTION:WOODBRIDGE PIZZA RUN\nALVIN P. WILLIAMS PARK\, SEWAREN\n  \n5K Run & Pizza Night 🍕🏃‍♂️ \nRegistration Opens: 5:30 PMRace Start: 7:00 PM \nEntry Fee: $25.00 (Click here to register) \nAmenities: Enjoy pizza and beverages provided by local township businesses! \nCourse Details: A scenic route featuring water stops\, a mix of rolling and flat terrain\, passing through well-kept neighborhoods and along the Sewaren waterfront. \nSee flyer for more details! \n 
URL:https://theclub.org/event/%f0%9f%8d%95woodbridge-pizza-run-july-15-2026%f0%9f%8d%95/
LOCATION:The Club at Woodbridge\, 585 Main Street\, 07095\, United States
ATTACH;FMTTYPE=image/jpeg:https://theclub.org/wp-content/uploads/2026/04/Woodbridge-Pizza-Run-Ad-for-Program-Guide-2.jpg
ORGANIZER;CN="The Club at Woodbridge":MAILTO:info@theclub.org
END:VEVENT
END:VCALENDAR