BEGIN:VCALENDAR
VERSION:2.0
PRODID:-//The Club - ECPv6.15.16//NONSGML v1.0//EN
CALSCALE:GREGORIAN
METHOD:PUBLISH
X-WR-CALNAME:The Club
X-ORIGINAL-URL:https://theclub.org
X-WR-CALDESC:Events for The Club
REFRESH-INTERVAL;VALUE=DURATION:PT1H
X-Robots-Tag:noindex
X-PUBLISHED-TTL:PT1H
BEGIN:VTIMEZONE
TZID:America/New_York
BEGIN:DAYLIGHT
TZOFFSETFROM:-0500
TZOFFSETTO:-0400
TZNAME:EDT
DTSTART:20230312T070000
END:DAYLIGHT
BEGIN:STANDARD
TZOFFSETFROM:-0400
TZOFFSETTO:-0500
TZNAME:EST
DTSTART:20231105T060000
END:STANDARD
BEGIN:DAYLIGHT
TZOFFSETFROM:-0500
TZOFFSETTO:-0400
TZNAME:EDT
DTSTART:20240310T070000
END:DAYLIGHT
BEGIN:STANDARD
TZOFFSETFROM:-0400
TZOFFSETTO:-0500
TZNAME:EST
DTSTART:20241103T060000
END:STANDARD
BEGIN:DAYLIGHT
TZOFFSETFROM:-0500
TZOFFSETTO:-0400
TZNAME:EDT
DTSTART:20250309T070000
END:DAYLIGHT
BEGIN:STANDARD
TZOFFSETFROM:-0400
TZOFFSETTO:-0500
TZNAME:EST
DTSTART:20251102T060000
END:STANDARD
END:VTIMEZONE
BEGIN:VEVENT
DTSTART;TZID=America/New_York:20241202T080000
DTEND;TZID=America/New_York:20241231T170000
DTSTAMP:20260421T075256
CREATED:20241202T154904Z
LAST-MODIFIED:20241202T162556Z
UID:6834-1733126400-1735664400@theclub.org
SUMMARY:Holiday Zen: Pop-Up Yoga with Sarah
DESCRIPTION:🧘‍♀️ Pop-Up Class Alert! 🧘‍♂️ \nJoin us for Yoga with Sarah this December! \n📅 Thursday at 7:15 PM\n🌟 Unwind\, recharge\, and find your zen during this special session. \nDon’t miss this chance to stretch\, breathe\, and relax—perfect for the holiday season. See you on the mat! 🕉️ 
URL:https://theclub.org/event/holiday-zen-pop-up-yoga-with-sarah/
LOCATION:The Club at Woodbridge\, 585 Main Street\, 07095\, United States
ORGANIZER;CN="The Club at Woodbridge":MAILTO:info@theclub.org
END:VEVENT
END:VCALENDAR