BEGIN:VCALENDAR
VERSION:2.0
PRODID:-//The Club - ECPv6.15.16//NONSGML v1.0//EN
CALSCALE:GREGORIAN
METHOD:PUBLISH
X-ORIGINAL-URL:https://theclub.org
X-WR-CALDESC:Events for The Club
REFRESH-INTERVAL;VALUE=DURATION:PT1H
X-Robots-Tag:noindex
X-PUBLISHED-TTL:PT1H
BEGIN:VTIMEZONE
TZID:America/New_York
BEGIN:DAYLIGHT
TZOFFSETFROM:-0500
TZOFFSETTO:-0400
TZNAME:EDT
DTSTART:20230312T070000
END:DAYLIGHT
BEGIN:STANDARD
TZOFFSETFROM:-0400
TZOFFSETTO:-0500
TZNAME:EST
DTSTART:20231105T060000
END:STANDARD
BEGIN:DAYLIGHT
TZOFFSETFROM:-0500
TZOFFSETTO:-0400
TZNAME:EDT
DTSTART:20240310T070000
END:DAYLIGHT
BEGIN:STANDARD
TZOFFSETFROM:-0400
TZOFFSETTO:-0500
TZNAME:EST
DTSTART:20241103T060000
END:STANDARD
BEGIN:DAYLIGHT
TZOFFSETFROM:-0500
TZOFFSETTO:-0400
TZNAME:EDT
DTSTART:20250309T070000
END:DAYLIGHT
BEGIN:STANDARD
TZOFFSETFROM:-0400
TZOFFSETTO:-0500
TZNAME:EST
DTSTART:20251102T060000
END:STANDARD
END:VTIMEZONE
BEGIN:VEVENT
DTSTART;TZID=America/New_York:20240401T080000
DTEND;TZID=America/New_York:20240530T200000
DTSTAMP:20260422T022620
CREATED:20240401T172809Z
LAST-MODIFIED:20240401T173235Z
UID:4129-1711958400-1717099200@theclub.org
SUMMARY:Running Conditioning Class 🏃
DESCRIPTION:  \n  \nLace up and hit the blue turf with Alex for our 8-week Running Conditioning class\, starting Wednesday at 7 pm! \nWhether you’re a beginner or a seasoned runner\, this program is tailored for all levels!
URL:https://theclub.org/event/running-conditioning-class-%f0%9f%8f%83/
LOCATION:The Club at Woodbridge\, 585 Main Street\, 07095\, United States
ORGANIZER;CN="The Club at Woodbridge":MAILTO:info@theclub.org
END:VEVENT
BEGIN:VEVENT
DTSTART;TZID=America/New_York:20240408T080000
DTEND;TZID=America/New_York:20240630T170000
DTSTAMP:20260422T022620
CREATED:20240408T191840Z
LAST-MODIFIED:20240511T231651Z
UID:4235-1712563200-1719766800@theclub.org
SUMMARY:On The Blog
DESCRIPTION:We’re starting this blog to share the journey toward a healthier\, happier life with you\, \ncovering everything from exercise and healthy eating to new classes\, \ninsights into preschoolers’ mindsets\, \nthe benefits of early learning\, swimming\, and much\, much more.
URL:https://theclub.org/event/on-the-blog/
LOCATION:The Club at Woodbridge\, 585 Main Street\, 07095\, United States
ATTACH;FMTTYPE=image/png:https://theclub.org/wp-content/uploads/2024/04/New-Blog-Post-2.png
ORGANIZER;CN="The Club at Woodbridge":MAILTO:info@theclub.org
END:VEVENT
BEGIN:VEVENT
DTSTART;VALUE=DATE:20240512
DTEND;VALUE=DATE:20240513
DTSTAMP:20260422T022620
CREATED:20240512T105319Z
LAST-MODIFIED:20240512T115838Z
UID:4872-1715472000-1715558399@theclub.org
SUMMARY:Cheers to Mom: Celebrating Mother's Day at The Club at Woodbridge!
DESCRIPTION:Mother’s Day is a special occasion to honor and celebrate the incredible mothers in our lives. \nIt’s a time to show appreciation for all the love\, care\, and sacrifices they make every day. \nAt The Club at Woodbridge\, we believe in recognizing and celebrating mothers not just on this day\, but every day. \nWhether it’s through a relaxing spa day\, a fitness class\, or a delicious meal at our restaurant\, we strive to make Mother’s Day memorable for all the amazing moms out there. \nJoin us in celebrating these remarkable women who enrich our lives with their unconditional love and support.
URL:https://theclub.org/event/cheers-to-mom-celebrating-mothers-day-at-the-club-at-woodbridge/
LOCATION:The Club at Woodbridge\, 585 Main Street\, 07095\, United States
END:VEVENT
BEGIN:VEVENT
DTSTART;TZID=America/New_York:20240512T080000
DTEND;TZID=America/New_York:20240512T170000
DTSTAMP:20260422T022620
CREATED:20240512T122831Z
LAST-MODIFIED:20240512T123246Z
UID:4899-1715500800-1715533200@theclub.org
SUMMARY:Veterans Special Offer: Exclusive Discounts Every Monday!
DESCRIPTION:Fore! Calling all veterans! Swing into savings every Monday with our exclusive 30% off discount at the golf den. \nJust bring your valid military ID and claim your \nOne Hour Session for $31.50 or Half-Hour Session for only $17.50.  \nNo other discounts apply! \nDon’t miss this special offer—book your tee time today! \nBook Now!
URL:https://theclub.org/event/veterans-special-offer-exclusive-discounts-every-monday/
LOCATION:The Club at Woodbridge\, 585 Main Street\, 07095\, United States
END:VEVENT
BEGIN:VEVENT
DTSTART;TZID=America/New_York:20240512T080000
DTEND;TZID=America/New_York:20240521T170000
DTSTAMP:20260422T022620
CREATED:20240512T215207Z
LAST-MODIFIED:20240512T220611Z
UID:4906-1715500800-1716310800@theclub.org
SUMMARY:Summer Registration Members Only starts May 13\, 2024
DESCRIPTION:Check out our classes on our website!\n\n \n\nLink to Kidsports classes: https://theclub.org/kidsports/kidsports-programs/\n \n\n\nLink to Aquatic classes: https://theclub.org/aquatics/swim-lessons/\n*Please be aware that registrations from non-members before May 20th will be automatically removed from the class without prior notice. Should this occur\, you will need to re-register during the non-member registration period. Please ensure to register within the appropriate timeframe to avoid any inconvenience. Thank you for your understanding and cooperation.\n  \nTo enroll in a class\, follow these steps: \nClick on the class you’re interested in. \nNavigate to the week of June 9th on the schedule. \nCheck if the class is full. If it is not full\, proceed with enrolling. \n \nIf you need further assistance\, feel free to reach out to our Front Desk!
URL:https://theclub.org/event/summer-registration-begins-tomorrow-may-13-2024/
LOCATION:The Club at Woodbridge\, 585 Main Street\, 07095\, United States
ORGANIZER;CN="The Club at Woodbridge":MAILTO:info@theclub.org
END:VEVENT
END:VCALENDAR